BEGIN:VCALENDAR
VERSION:2.0
PRODID:-//Iglesia Bethania - ECPv6.1.3//NONSGML v1.0//EN
CALSCALE:GREGORIAN
METHOD:PUBLISH
X-ORIGINAL-URL:https://bethania.conican.com
X-WR-CALDESC:Eventos para Iglesia Bethania
REFRESH-INTERVAL;VALUE=DURATION:PT1H
X-Robots-Tag:noindex
X-PUBLISHED-TTL:PT1H
BEGIN:VTIMEZONE
TZID:America/Mexico_City
BEGIN:DAYLIGHT
TZOFFSETFROM:-0600
TZOFFSETTO:-0500
TZNAME:CDT
DTSTART:20200405T080000
END:DAYLIGHT
BEGIN:STANDARD
TZOFFSETFROM:-0500
TZOFFSETTO:-0600
TZNAME:CST
DTSTART:20201025T070000
END:STANDARD
END:VTIMEZONE
BEGIN:VEVENT
DTSTART;VALUE=DATE:20200430
DTEND;VALUE=DATE:20200501
DTSTAMP:20260420T025456
CREATED:20200227T190646Z
LAST-MODIFIED:20200227T190646Z
UID:2188-1588204800-1588291199@bethania.conican.com
SUMMARY:Día del Niño
DESCRIPTION:
URL:https://bethania.conican.com/events/dia-del-nino/
LOCATION:Templo Betania\, Julián Carrillo 209\,\, Fracc. Monclova\, Monclova\, Coahuila\, 25790\, México
CATEGORIES:Betania KIDS,Ministerios
ATTACH;FMTTYPE=image/jpeg:https://bethania.conican.com/wp-content/uploads/2020/02/IMG_20190708_093447908-scaled.jpg
ORGANIZER;CN="L%C3%ADderes%20Betania":MAILTO:oficinapastoral@betaniaconic.com
END:VEVENT
BEGIN:VEVENT
DTSTART;VALUE=DATE:20200418
DTEND;VALUE=DATE:20200419
DTSTAMP:20260420T025456
CREATED:20200227T190014Z
LAST-MODIFIED:20200227T190014Z
UID:2186-1587168000-1587254399@bethania.conican.com
SUMMARY:RS Infantil ELIM
DESCRIPTION:
URL:https://bethania.conican.com/events/rs-infantil-elim/
CATEGORIES:Betania KIDS,Ministerios
ATTACH;FMTTYPE=image/jpeg:https://bethania.conican.com/wp-content/uploads/2020/02/IMG_20190708_093507408-scaled.jpg
END:VEVENT
BEGIN:VEVENT
DTSTART;VALUE=DATE:20200405
DTEND;VALUE=DATE:20200413
DTSTAMP:20260420T025456
CREATED:20200227T185419Z
LAST-MODIFIED:20200227T185847Z
UID:2183-1586044800-1586735999@bethania.conican.com
SUMMARY:Semana Santa
DESCRIPTION:
URL:https://bethania.conican.com/events/semana-santa/
LOCATION:Templo Betania\, Julián Carrillo 209\,\, Fracc. Monclova\, Monclova\, Coahuila\, 25790\, México
CATEGORIES:Ministerios
ATTACH;FMTTYPE=image/jpeg:https://bethania.conican.com/wp-content/uploads/2020/02/semana-santa.jpeg
ORGANIZER;CN="L%C3%ADderes%20Betania":MAILTO:oficinapastoral@betaniaconic.com
END:VEVENT
BEGIN:VEVENT
DTSTART;TZID=America/Mexico_City:20200321T080000
DTEND;TZID=America/Mexico_City:20200321T170000
DTSTAMP:20260420T025456
CREATED:20200216T182316Z
LAST-MODIFIED:20200216T183441Z
UID:831-1584777600-1584810000@bethania.conican.com
SUMMARY:SEMINARIO INFANTIL EBDV
DESCRIPTION:EL RETO DE LOS VALIENTES\nIGLESIA MENSAJERO DE PAZ – Informes: 866 171 3475 y 866 381 8799
URL:https://bethania.conican.com/events/seminario-infantil-ebdv/
LOCATION:Iglesia Mensajero de Paz\, Felipe Ángeles 1317\, Col. Cañada Sur\, Monclova\, Coahuila\, 25760\, México
CATEGORIES:Betania KIDS,Ministerios
ATTACH;FMTTYPE=image/jpeg:https://bethania.conican.com/wp-content/uploads/2020/02/Seminario-Infantil-EBDV.jpeg
ORGANIZER;CN="Diana%20Moore":MAILTO:pastoradiana@betaniaconic.com
END:VEVENT
BEGIN:VEVENT
DTSTART;VALUE=DATE:20200321
DTEND;VALUE=DATE:20200322
DTSTAMP:20260420T025456
CREATED:20200227T184955Z
LAST-MODIFIED:20200227T184955Z
UID:2181-1584748800-1584835199@bethania.conican.com
SUMMARY:RS Jóvenes Betania
DESCRIPTION:
URL:https://bethania.conican.com/events/rs-jovenes-betania/
LOCATION:Templo Betania\, Julián Carrillo 209\,\, Fracc. Monclova\, Monclova\, Coahuila\, 25790\, México
CATEGORIES:Betania Youth,Ministerios
ATTACH;FMTTYPE=image/jpeg:https://bethania.conican.com/wp-content/uploads/2020/01/Betania-youth-1.jpg
END:VEVENT
BEGIN:VEVENT
DTSTART;VALUE=DATE:20200316
DTEND;VALUE=DATE:20200317
DTSTAMP:20260420T025456
CREATED:20200224T183622Z
LAST-MODIFIED:20200224T183732Z
UID:1667-1584316800-1584403199@bethania.conican.com
SUMMARY:Seminario de Educación Cristiana
DESCRIPTION:Seminario de Educación Cristiana
URL:https://bethania.conican.com/events/seminario-de-educacion-cristiana/
LOCATION:Templo Betania\, Julián Carrillo 209\,\, Fracc. Monclova\, Monclova\, Coahuila\, 25790\, México
CATEGORIES:Ministerios,Sección Monclova
ATTACH;FMTTYPE=image/jpeg:https://bethania.conican.com/wp-content/uploads/2020/02/Evangelismo-biblia.jpg
END:VEVENT
BEGIN:VEVENT
DTSTART;TZID=America/Mexico_City:20200308T100000
DTEND;TZID=America/Mexico_City:20200308T120000
DTSTAMP:20260420T025456
CREATED:20200215T085227Z
LAST-MODIFIED:20200306T181216Z
UID:802-1583661600-1583668800@bethania.conican.com
SUMMARY:Festi KIDS
DESCRIPTION:Con estas actividades\, además de enseñar a los más pequeños\, los mayores fortalecemos nuestros propios conocimientos\, desarrollaron habilidades de comunicación y potenciaron conductas de amabilidad hacia los demás.
URL:https://bethania.conican.com/events/betania-kids/
LOCATION:Templo Betania\, Julián Carrillo 209\,\, Fracc. Monclova\, Monclova\, Coahuila\, 25790\, México
CATEGORIES:Betania KIDS,Ministerios
ATTACH;FMTTYPE=image/png:https://bethania.conican.com/wp-content/uploads/2020/02/logo_BetaniaKIDS_2.png
END:VEVENT
BEGIN:VEVENT
DTSTART;VALUE=DATE:20200308
DTEND;VALUE=DATE:20200309
DTSTAMP:20260420T025456
CREATED:20200302T192911Z
LAST-MODIFIED:20200302T193120Z
UID:2633-1583625600-1583711999@bethania.conican.com
SUMMARY:Día Internacional de la Mujer
DESCRIPTION:Todos los 8 de marzo se conmemora en todo el mundo el Día Internacional de la Mujer.
URL:https://bethania.conican.com/events/dia-internacional-de-la-mujer/
CATEGORIES:DAMAS,Ministerios
ATTACH;FMTTYPE=image/jpeg:https://bethania.conican.com/wp-content/uploads/2020/03/dia-internacional-de-la-mujer_4_588x353.jpg
END:VEVENT
BEGIN:VEVENT
DTSTART;TZID=America/Mexico_City:20200307T110000
DTEND;TZID=America/Mexico_City:20200307T130000
DTSTAMP:20260420T025456
CREATED:20200219T034627Z
LAST-MODIFIED:20200302T192124Z
UID:1250-1583578800-1583586000@bethania.conican.com
SUMMARY:Betania Kids
DESCRIPTION:Tiempo creado y destinado a la formación del niño\, enseñando la palabra de Dios a través de Canciones\, lecciones dinámicas y ejercicios diseñados para mejorar su aprendizaje\, comprensión y relación con Dios. \nSemanalmente Sábados de 11:00 a.m. a 01:00 p.m.\nDomingo de 10:00 a.m. a 12:00 p.m\nAnualmente Día del niño
URL:https://bethania.conican.com/events/betania-kids-2/
LOCATION:Templo Betania\, Julián Carrillo 209\,\, Fracc. Monclova\, Monclova\, Coahuila\, 25790\, México
CATEGORIES:Betania KIDS,Ministerios
ATTACH;FMTTYPE=image/png:https://bethania.conican.com/wp-content/uploads/2020/02/logo_BetaniaKIDS_2.png
END:VEVENT
BEGIN:VEVENT
DTSTART;TZID=America/Mexico_City:20200229T160000
DTEND;TZID=America/Mexico_City:20200229T180000
DTSTAMP:20260420T025456
CREATED:20200219T040324Z
LAST-MODIFIED:20200219T040324Z
UID:1258-1582992000-1582999200@bethania.conican.com
SUMMARY:Misiones
DESCRIPTION:Hacer labor evangelistica y llevar el mensaje a aquellos que por enfermedad o cualquier obstáculo se les imposibilita o complica el asistir a la iglesia \nACTIVIDADES\nSemanalmente Sábados de 4:00 p.m a 6:00 p.m.\nJueves de 4:00 p.m a 6:00 p.m
URL:https://bethania.conican.com/events/misiones/
LOCATION:Templo Betania\, Julián Carrillo 209\,\, Fracc. Monclova\, Monclova\, Coahuila\, 25790\, México
CATEGORIES:Ministerios,Misiones
ATTACH;FMTTYPE=image/jpeg:https://bethania.conican.com/wp-content/uploads/2020/02/hands-holding-a-heart.jpg
END:VEVENT
BEGIN:VEVENT
DTSTART;TZID=America/Mexico_City:20200223T100000
DTEND;TZID=America/Mexico_City:20200223T120000
DTSTAMP:20260420T025456
CREATED:20200219T034303Z
LAST-MODIFIED:20200219T034303Z
UID:1248-1582452000-1582459200@bethania.conican.com
SUMMARY:Educación Cristiana
DESCRIPTION:
URL:https://bethania.conican.com/events/educacion-cristiana/
LOCATION:Templo Betania\, Julián Carrillo 209\,\, Fracc. Monclova\, Monclova\, Coahuila\, 25790\, México
CATEGORIES:Educación Cristiana
ATTACH;FMTTYPE=image/jpeg:https://bethania.conican.com/wp-content/uploads/2020/02/church-10-1.jpg
END:VEVENT
BEGIN:VEVENT
DTSTART;TZID=America/Mexico_City:20200220T160000
DTEND;TZID=America/Mexico_City:20200220T180000
DTSTAMP:20260420T025456
CREATED:20200219T040541Z
LAST-MODIFIED:20200219T040541Z
UID:1261-1582214400-1582221600@bethania.conican.com
SUMMARY:Misiones
DESCRIPTION:Hacer labor evangelistica y llevar el mensaje a aquellos que por enfermedad o cualquier obstáculo se les imposibilita o complica el asistir a la iglesia \nACTIVIDADES\nSemanalmente Sábados de 4:00 p.m a 6:00 p.m.\nJueves de 4:00 p.m a 6:00 p.m
URL:https://bethania.conican.com/events/misiones-2/
LOCATION:Templo Betania\, Julián Carrillo 209\,\, Fracc. Monclova\, Monclova\, Coahuila\, 25790\, México
CATEGORIES:Ministerios,Misiones
ATTACH;FMTTYPE=image/jpeg:https://bethania.conican.com/wp-content/uploads/2020/02/corazon-mano-concepto-filantropia-mujer-corazon-rojo-manos-dia-san-valentin-o-donar-ayuda-dar-calidez-amorosa-cuidar-fondo-madera_73523-3340.jpg
END:VEVENT
END:VCALENDAR